Package: InPAS Version: 2.15.2 Command: chmod a+r InPAS -R && E:\biocbuild\bbs-3.21-bioc\R\bin\R.exe CMD build --keep-empty-dirs --no-resave-data InPAS StartedAt: 2025-02-09 19:23:20 -0500 (Sun, 09 Feb 2025) EndedAt: 2025-02-09 19:28:41 -0500 (Sun, 09 Feb 2025) EllapsedTime: 321.3 seconds RetCode: 0 Status: OK PackageFile: InPAS_2.15.2.tar.gz PackageFileSize: 1.316 MiB