Package: InPAS Version: 2.15.2 Command: E:\biocbuild\bbs-3.21-bioc\R\bin\R.exe CMD check --no-multiarch --install=check:InPAS.install-out.txt --library=E:\biocbuild\bbs-3.21-bioc\R\library --no-vignettes --timings InPAS_2.15.2.tar.gz StartedAt: 2025-02-10 02:07:27 -0500 (Mon, 10 Feb 2025) EndedAt: 2025-02-10 02:15:06 -0500 (Mon, 10 Feb 2025) EllapsedTime: 459.1 seconds RetCode: 0 Status: WARNINGS CheckDir: InPAS.Rcheck Warnings: 1