Package: InPAS Version: 2.15.2 Command: E:\biocbuild\bbs-3.21-bioc\R\bin\R.exe CMD INSTALL InPAS StartedAt: 2025-02-09 16:42:49 -0500 (Sun, 09 Feb 2025) EndedAt: 2025-02-09 16:43:58 -0500 (Sun, 09 Feb 2025) EllapsedTime: 69.3 seconds RetCode: 0 Status: OK