Package: InTAD Version: 1.27.0 Command: /Library/Frameworks/R.framework/Resources/bin/R CMD INSTALL InTAD StartedAt: 2025-02-09 15:42:48 -0500 (Sun, 09 Feb 2025) EndedAt: 2025-02-09 15:43:36 -0500 (Sun, 09 Feb 2025) EllapsedTime: 48.7 seconds RetCode: 0 Status: OK