Package: InTAD Version: 1.27.0 Command: E:\biocbuild\bbs-3.21-bioc\R\bin\R.exe CMD check --no-multiarch --install=check:InTAD.install-out.txt --library=E:\biocbuild\bbs-3.21-bioc\R\library --no-vignettes --timings InTAD_1.27.0.tar.gz StartedAt: 2025-02-10 02:08:25 -0500 (Mon, 10 Feb 2025) EndedAt: 2025-02-10 02:14:28 -0500 (Mon, 10 Feb 2025) EllapsedTime: 362.9 seconds RetCode: 0 Status: OK CheckDir: InTAD.Rcheck Warnings: 0