Package: Informeasure Version: 1.17.0 Command: /Library/Frameworks/R.framework/Resources/bin/R CMD build --keep-empty-dirs --no-resave-data Informeasure StartedAt: 2025-02-09 16:41:27 -0500 (Sun, 09 Feb 2025) EndedAt: 2025-02-09 16:41:32 -0500 (Sun, 09 Feb 2025) EllapsedTime: 5.1 seconds RetCode: 0 Status: OK PackageFile: Informeasure_1.17.0.tar.gz PackageFileSize: 276.6 KiB