Package: Informeasure Version: 1.17.0 Command: /home/biocbuild/R/R/bin/R CMD build --keep-empty-dirs --no-resave-data Informeasure StartedAt: 2025-01-28 23:44:56 -0000 (Tue, 28 Jan 2025) EndedAt: 2025-01-28 23:45:13 -0000 (Tue, 28 Jan 2025) EllapsedTime: 17.0 seconds RetCode: 0 Status: OK PackageFile: Informeasure_1.17.0.tar.gz PackageFileSize: 300.9 KiB