Package: Informeasure Version: 1.17.0 Command: rm -rf Informeasure.buildbin-libdir && mkdir Informeasure.buildbin-libdir && /Users/biocbuild/BBS/utils/build-universal.sh Informeasure_1.17.0.tar.gz /Library/Frameworks/R.framework/Resources/bin/R Informeasure.buildbin-libdir StartedAt: 2025-02-13 00:41:49 -0500 (Thu, 13 Feb 2025) EndedAt: 2025-02-13 00:41:56 -0500 (Thu, 13 Feb 2025) EllapsedTime: 7.0 seconds RetCode: 0 Status: OK PackageFile: Informeasure_1.17.0.tgz PackageFileSize: 328.7 KiB