Package: Informeasure Version: 1.17.0 Command: /Library/Frameworks/R.framework/Resources/bin/R CMD INSTALL Informeasure StartedAt: 2025-02-09 15:04:14 -0500 (Sun, 09 Feb 2025) EndedAt: 2025-02-09 15:05:02 -0500 (Sun, 09 Feb 2025) EllapsedTime: 47.8 seconds RetCode: 0 Status: OK