Package: Informeasure Version: 1.17.0 Command: /home/biocbuild/bbs-3.21-bioc/R/bin/R CMD INSTALL Informeasure StartedAt: 2025-02-09 15:02:37 -0500 (Sun, 09 Feb 2025) EndedAt: 2025-02-09 15:02:49 -0500 (Sun, 09 Feb 2025) EllapsedTime: 12.5 seconds RetCode: 0 Status: OK