Package: IntEREst Version: 1.31.0 Maintainer: Ali Oghabian MaintainerEmail: Ali.Oghabian at Helsinki.Fi git_url: https://git.bioconductor.org/packages/IntEREst git_branch: devel git_last_commit: 99f6377 git_last_commit_date: 2024-10-29 10:17:53 -0500 (Tue, 29 Oct 2024)