Package: IntEREst Version: 1.31.0 Command: rm -rf IntEREst.buildbin-libdir && mkdir IntEREst.buildbin-libdir && /Users/biocbuild/BBS/utils/build-universal.sh IntEREst_1.31.0.tar.gz /Library/Frameworks/R.framework/Resources/bin/R IntEREst.buildbin-libdir StartedAt: 2025-02-09 22:18:14 -0500 (Sun, 09 Feb 2025) EndedAt: 2025-02-09 22:18:37 -0500 (Sun, 09 Feb 2025) EllapsedTime: 23.4 seconds RetCode: 0 Status: OK PackageFile: IntEREst_1.31.0.tgz PackageFileSize: 1.908 MiB