Package: IntEREst Version: 1.31.0 Command: /Library/Frameworks/R.framework/Resources/bin/R CMD build --keep-empty-dirs --no-resave-data IntEREst StartedAt: 2025-02-09 16:42:46 -0500 (Sun, 09 Feb 2025) EndedAt: 2025-02-09 16:43:31 -0500 (Sun, 09 Feb 2025) EllapsedTime: 44.5 seconds RetCode: 0 Status: OK PackageFile: IntEREst_1.31.0.tar.gz PackageFileSize: 1.439 MiB