Package: IntEREst Version: 1.31.0 Command: /home/biocbuild/R/R/bin/R CMD check --install=check:IntEREst.install-out.txt --library=/home/biocbuild/R/R/site-library --no-vignettes --timings IntEREst_1.31.0.tar.gz StartedAt: 2025-01-28 11:40:31 -0000 (Tue, 28 Jan 2025) EndedAt: 2025-01-28 11:48:30 -0000 (Tue, 28 Jan 2025) EllapsedTime: 479.4 seconds RetCode: 0 Status: WARNINGS CheckDir: IntEREst.Rcheck Warnings: 5