Package: IntEREst Version: 1.31.0 Command: /Library/Frameworks/R.framework/Resources/bin/R CMD build --keep-empty-dirs --no-resave-data IntEREst StartedAt: 2025-02-12 17:08:14 -0500 (Wed, 12 Feb 2025) EndedAt: 2025-02-12 17:10:15 -0500 (Wed, 12 Feb 2025) EllapsedTime: 121.1 seconds RetCode: 0 Status: OK PackageFile: IntEREst_1.31.0.tar.gz PackageFileSize: 1.439 MiB