Package: IntEREst Version: 1.31.0 Command: /Library/Frameworks/R.framework/Resources/bin/R CMD check --install=check:IntEREst.install-out.txt --library=/Library/Frameworks/R.framework/Resources/library --no-vignettes --timings IntEREst_1.31.0.tar.gz StartedAt: 2025-02-09 21:25:33 -0500 (Sun, 09 Feb 2025) EndedAt: 2025-02-09 21:32:24 -0500 (Sun, 09 Feb 2025) EllapsedTime: 410.8 seconds RetCode: 0 Status: OK CheckDir: IntEREst.Rcheck Warnings: 0