Package: IntEREst Version: 1.31.0 Command: /home/biocbuild/bbs-3.21-bioc/R/bin/R CMD check --install=check:IntEREst.install-out.txt --library=/home/biocbuild/bbs-3.21-bioc/R/site-library --timings IntEREst_1.31.0.tar.gz StartedAt: 2025-02-09 23:24:45 -0500 (Sun, 09 Feb 2025) EndedAt: 2025-02-09 23:31:35 -0500 (Sun, 09 Feb 2025) EllapsedTime: 409.4 seconds RetCode: 0 Status: OK CheckDir: IntEREst.Rcheck Warnings: 0