Package: IntEREst Version: 1.31.0 Command: E:\biocbuild\bbs-3.21-bioc\R\bin\R.exe CMD check --no-multiarch --install=check:IntEREst.install-out.txt --library=E:\biocbuild\bbs-3.21-bioc\R\library --no-vignettes --timings IntEREst_1.31.0.tar.gz StartedAt: 2025-02-10 02:10:49 -0500 (Mon, 10 Feb 2025) EndedAt: 2025-02-10 02:17:57 -0500 (Mon, 10 Feb 2025) EllapsedTime: 428.6 seconds RetCode: 0 Status: OK CheckDir: IntEREst.Rcheck Warnings: 0