Package: IntEREst Version: 1.31.0 Command: E:\biocbuild\bbs-3.21-bioc\R\bin\R.exe CMD INSTALL IntEREst StartedAt: 2025-02-09 16:41:34 -0500 (Sun, 09 Feb 2025) EndedAt: 2025-02-09 16:42:47 -0500 (Sun, 09 Feb 2025) EllapsedTime: 72.4 seconds RetCode: 0 Status: OK