Package: InteractionSet Version: 1.35.0 Command: /Library/Frameworks/R.framework/Resources/bin/R CMD check --install=check:InteractionSet.install-out.txt --library=/Library/Frameworks/R.framework/Resources/library --no-vignettes --timings InteractionSet_1.35.0.tar.gz StartedAt: 2025-02-09 19:44:33 -0500 (Sun, 09 Feb 2025) EndedAt: 2025-02-09 19:46:00 -0500 (Sun, 09 Feb 2025) EllapsedTime: 87.0 seconds RetCode: 0 Status: OK CheckDir: InteractionSet.Rcheck Warnings: 0