Package: InteractionSet Version: 1.35.0 Command: rm -rf InteractionSet.buildbin-libdir && mkdir InteractionSet.buildbin-libdir && /Users/biocbuild/BBS/utils/build-universal.sh InteractionSet_1.35.0.tar.gz /Library/Frameworks/R.framework/Resources/bin/R InteractionSet.buildbin-libdir StartedAt: 2025-02-04 00:39:22 -0500 (Tue, 04 Feb 2025) EndedAt: 2025-02-04 00:40:23 -0500 (Tue, 04 Feb 2025) EllapsedTime: 60.9 seconds RetCode: 0 Status: OK PackageFile: InteractionSet_1.35.0.tgz PackageFileSize: 1.551 MiB