Package: InteractionSet Version: 1.35.0 Command: /Library/Frameworks/R.framework/Resources/bin/R CMD build --keep-empty-dirs --no-resave-data InteractionSet StartedAt: 2025-02-03 17:11:06 -0500 (Mon, 03 Feb 2025) EndedAt: 2025-02-03 17:12:14 -0500 (Mon, 03 Feb 2025) EllapsedTime: 68.6 seconds RetCode: 0 Status: OK PackageFile: InteractionSet_1.35.0.tar.gz PackageFileSize: 391 KiB