Package: InteractionSet Version: 1.35.0 Command: /Library/Frameworks/R.framework/Resources/bin/R CMD check --install=check:InteractionSet.install-out.txt --library=/Library/Frameworks/R.framework/Resources/library --no-vignettes --timings InteractionSet_1.35.0.tar.gz StartedAt: 2025-02-03 21:12:24 -0500 (Mon, 03 Feb 2025) EndedAt: 2025-02-03 21:16:54 -0500 (Mon, 03 Feb 2025) EllapsedTime: 269.5 seconds RetCode: 0 Status: OK CheckDir: InteractionSet.Rcheck Warnings: 0