Package: InteractionSet Version: 1.35.0 Command: /home/biocbuild/bbs-3.21-bioc/R/bin/R CMD check --install=check:InteractionSet.install-out.txt --library=/home/biocbuild/bbs-3.21-bioc/R/site-library --timings InteractionSet_1.35.0.tar.gz StartedAt: 2025-02-03 23:29:40 -0500 (Mon, 03 Feb 2025) EndedAt: 2025-02-03 23:34:35 -0500 (Mon, 03 Feb 2025) EllapsedTime: 295.3 seconds RetCode: 0 Status: OK CheckDir: InteractionSet.Rcheck Warnings: 0