Package: InteractionSet Version: 1.35.0 Command: /home/biocbuild/bbs-3.21-bioc/R/bin/R CMD INSTALL InteractionSet StartedAt: 2025-02-09 15:21:50 -0500 (Sun, 09 Feb 2025) EndedAt: 2025-02-09 15:22:33 -0500 (Sun, 09 Feb 2025) EllapsedTime: 43.0 seconds RetCode: 0 Status: OK