Package: InteractionSet Version: 1.35.0 Command: rm -rf InteractionSet.buildbin-libdir && mkdir InteractionSet.buildbin-libdir && E:\biocbuild\bbs-3.21-bioc\R\bin\R.exe CMD INSTALL --build --library=InteractionSet.buildbin-libdir InteractionSet_1.35.0.tar.gz StartedAt: 2025-02-04 08:12:00 -0500 (Tue, 04 Feb 2025) EndedAt: 2025-02-04 08:16:23 -0500 (Tue, 04 Feb 2025) EllapsedTime: 263.0 seconds RetCode: 0 Status: OK PackageFile: InteractionSet_1.35.0.zip PackageFileSize: 1.858 MiB