Package: InteractionSet Version: 1.35.0 Command: E:\biocbuild\bbs-3.21-bioc\R\bin\R.exe CMD check --no-multiarch --install=check:InteractionSet.install-out.txt --library=E:\biocbuild\bbs-3.21-bioc\R\library --no-vignettes --timings InteractionSet_1.35.0.tar.gz StartedAt: 2025-02-10 02:09:15 -0500 (Mon, 10 Feb 2025) EndedAt: 2025-02-10 02:14:37 -0500 (Mon, 10 Feb 2025) EllapsedTime: 321.3 seconds RetCode: 0 Status: OK CheckDir: InteractionSet.Rcheck Warnings: 0