Package: InteractionSet Version: 1.35.0 Command: E:\biocbuild\bbs-3.21-bioc\R\bin\R.exe CMD INSTALL InteractionSet StartedAt: 2025-02-03 16:23:28 -0500 (Mon, 03 Feb 2025) EndedAt: 2025-02-03 16:25:16 -0500 (Mon, 03 Feb 2025) EllapsedTime: 108.2 seconds RetCode: 0 Status: OK