Package: InteractiveComplexHeatmap Version: 1.15.0 Command: rm -rf InteractiveComplexHeatmap.buildbin-libdir && mkdir InteractiveComplexHeatmap.buildbin-libdir && E:\biocbuild\bbs-3.21-bioc\R\bin\R.exe CMD INSTALL --build --library=InteractiveComplexHeatmap.buildbin-libdir InteractiveComplexHeatmap_1.15.0.tar.gz StartedAt: 2025-02-10 07:58:31 -0500 (Mon, 10 Feb 2025) EndedAt: 2025-02-10 08:08:08 -0500 (Mon, 10 Feb 2025) EllapsedTime: 576.4 seconds RetCode: 0 Status: OK PackageFile: InteractiveComplexHeatmap_1.15.0.zip PackageFileSize: 1.102 MiB