Package: InteractiveComplexHeatmap Version: 1.15.0 Command: chmod a+r InteractiveComplexHeatmap -R && E:\biocbuild\bbs-3.21-bioc\R\bin\R.exe CMD build --keep-empty-dirs --no-resave-data InteractiveComplexHeatmap StartedAt: 2025-02-09 19:24:11 -0500 (Sun, 09 Feb 2025) EndedAt: 2025-02-09 19:25:23 -0500 (Sun, 09 Feb 2025) EllapsedTime: 72.3 seconds RetCode: 0 Status: OK PackageFile: InteractiveComplexHeatmap_1.15.0.tar.gz PackageFileSize: 886.7 KiB