Package: IntramiRExploreR Version: 1.29.0 Maintainer: Surajit Bhattacharya MaintainerEmail: sbhattach2 at childrensnational.org git_url: https://git.bioconductor.org/packages/IntramiRExploreR git_branch: devel git_last_commit: a02de99 git_last_commit_date: 2024-10-29 11:04:23 -0500 (Tue, 29 Oct 2024)