Package: IntramiRExploreR Version: 1.29.0 Command: /Library/Frameworks/R.framework/Resources/bin/R CMD INSTALL IntramiRExploreR StartedAt: 2025-02-12 15:05:19 -0500 (Wed, 12 Feb 2025) EndedAt: 2025-02-12 15:05:28 -0500 (Wed, 12 Feb 2025) EllapsedTime: 9.3 seconds RetCode: 0 Status: OK