Package: IntramiRExploreR Version: 1.29.0 Command: /home/biocbuild/R/R/bin/R CMD build --keep-empty-dirs --no-resave-data IntramiRExploreR StartedAt: 2025-01-28 23:47:04 -0000 (Tue, 28 Jan 2025) EndedAt: 2025-01-28 23:47:31 -0000 (Tue, 28 Jan 2025) EllapsedTime: 27.0 seconds RetCode: 0 Status: OK PackageFile: IntramiRExploreR_1.29.0.tar.gz PackageFileSize: 8.902 MiB