Package: IntramiRExploreR Version: 1.29.0 Command: /Library/Frameworks/R.framework/Resources/bin/R CMD check --install=check:IntramiRExploreR.install-out.txt --library=/Library/Frameworks/R.framework/Resources/library --no-vignettes --timings IntramiRExploreR_1.29.0.tar.gz StartedAt: 2025-02-12 21:13:08 -0500 (Wed, 12 Feb 2025) EndedAt: 2025-02-12 21:14:10 -0500 (Wed, 12 Feb 2025) EllapsedTime: 62.0 seconds RetCode: 0 Status: WARNINGS CheckDir: IntramiRExploreR.Rcheck Warnings: 2