Package: IntramiRExploreR Version: 1.29.0 Command: /home/biocbuild/bbs-3.21-bioc/R/bin/R CMD INSTALL IntramiRExploreR StartedAt: 2025-02-09 15:11:13 -0500 (Sun, 09 Feb 2025) EndedAt: 2025-02-09 15:11:27 -0500 (Sun, 09 Feb 2025) EllapsedTime: 14.1 seconds RetCode: 0 Status: OK