Package: IntramiRExploreR Version: 1.29.0 Command: chmod a+r IntramiRExploreR -R && E:\biocbuild\bbs-3.21-bioc\R\bin\R.exe CMD build --keep-empty-dirs --no-resave-data IntramiRExploreR StartedAt: 2025-02-09 19:25:23 -0500 (Sun, 09 Feb 2025) EndedAt: 2025-02-09 19:25:49 -0500 (Sun, 09 Feb 2025) EllapsedTime: 25.9 seconds RetCode: 0 Status: OK PackageFile: IntramiRExploreR_1.29.0.tar.gz PackageFileSize: 8.901 MiB