Package: IsoCorrectoRGUI Version: 1.23.0 Command: rm -rf IsoCorrectoRGUI.buildbin-libdir && mkdir IsoCorrectoRGUI.buildbin-libdir && /Users/biocbuild/BBS/utils/build-universal.sh IsoCorrectoRGUI_1.23.0.tar.gz /Library/Frameworks/R.framework/Resources/bin/R IsoCorrectoRGUI.buildbin-libdir StartedAt: 2025-02-11 01:13:30 -0500 (Tue, 11 Feb 2025) EndedAt: 2025-02-11 01:13:40 -0500 (Tue, 11 Feb 2025) EllapsedTime: 10.3 seconds RetCode: 0 Status: OK PackageFile: IsoCorrectoRGUI_1.23.0.tgz PackageFileSize: 455.2 KiB