Package: IsoCorrectoRGUI Version: 1.23.0 Command: /Library/Frameworks/R.framework/Resources/bin/R CMD build --keep-empty-dirs --no-resave-data IsoCorrectoRGUI StartedAt: 2025-02-10 17:08:53 -0500 (Mon, 10 Feb 2025) EndedAt: 2025-02-10 17:09:06 -0500 (Mon, 10 Feb 2025) EllapsedTime: 13.7 seconds RetCode: 0 Status: OK PackageFile: IsoCorrectoRGUI_1.23.0.tar.gz PackageFileSize: 438.9 KiB