Package: IsoCorrectoRGUI Version: 1.23.0 Command: /Library/Frameworks/R.framework/Resources/bin/R CMD check --install=check:IsoCorrectoRGUI.install-out.txt --library=/Library/Frameworks/R.framework/Resources/library --no-vignettes --timings IsoCorrectoRGUI_1.23.0.tar.gz StartedAt: 2025-02-10 21:50:01 -0500 (Mon, 10 Feb 2025) EndedAt: 2025-02-10 21:50:54 -0500 (Mon, 10 Feb 2025) EllapsedTime: 52.7 seconds RetCode: 0 Status: OK CheckDir: IsoCorrectoRGUI.Rcheck Warnings: 0