Package: IsoCorrectoRGUI Version: 1.23.0 Command: /Library/Frameworks/R.framework/Resources/bin/R CMD INSTALL IsoCorrectoRGUI StartedAt: 2025-02-10 15:08:43 -0500 (Mon, 10 Feb 2025) EndedAt: 2025-02-10 15:08:59 -0500 (Mon, 10 Feb 2025) EllapsedTime: 16.2 seconds RetCode: 0 Status: OK