Package: IsoCorrectoRGUI Version: 1.23.0 Command: chmod a+r IsoCorrectoRGUI -R && E:\biocbuild\bbs-3.21-bioc\R\bin\R.exe CMD build --keep-empty-dirs --no-resave-data IsoCorrectoRGUI StartedAt: 2025-02-10 19:40:36 -0500 (Mon, 10 Feb 2025) EndedAt: 2025-02-10 19:41:06 -0500 (Mon, 10 Feb 2025) EllapsedTime: 30.1 seconds RetCode: 0 Status: OK PackageFile: IsoCorrectoRGUI_1.23.0.tar.gz PackageFileSize: 439.1 KiB