Package: IsoCorrectoRGUI Version: 1.23.0 Command: E:\biocbuild\bbs-3.21-bioc\R\bin\R.exe CMD check --no-multiarch --install=check:IsoCorrectoRGUI.install-out.txt --library=E:\biocbuild\bbs-3.21-bioc\R\library --no-vignettes --timings IsoCorrectoRGUI_1.23.0.tar.gz StartedAt: 2025-02-11 02:29:09 -0500 (Tue, 11 Feb 2025) EndedAt: 2025-02-11 02:30:01 -0500 (Tue, 11 Feb 2025) EllapsedTime: 52.4 seconds RetCode: 0 Status: OK CheckDir: IsoCorrectoRGUI.Rcheck Warnings: 0