Package: IsoCorrectoRGUI Version: 1.23.0 Command: E:\biocbuild\bbs-3.21-bioc\R\bin\R.exe CMD INSTALL IsoCorrectoRGUI StartedAt: 2025-02-10 15:57:18 -0500 (Mon, 10 Feb 2025) EndedAt: 2025-02-10 15:58:08 -0500 (Mon, 10 Feb 2025) EllapsedTime: 50.2 seconds RetCode: 0 Status: OK