Package: IsoformSwitchAnalyzeR Version: 2.7.0 Command: /Library/Frameworks/R.framework/Resources/bin/R CMD build --keep-empty-dirs --no-resave-data IsoformSwitchAnalyzeR StartedAt: 2025-02-09 16:44:21 -0500 (Sun, 09 Feb 2025) EndedAt: 2025-02-09 16:45:46 -0500 (Sun, 09 Feb 2025) EllapsedTime: 85.0 seconds RetCode: 0 Status: OK PackageFile: IsoformSwitchAnalyzeR_2.7.0.tar.gz PackageFileSize: 6.597 MiB