Package: IsoformSwitchAnalyzeR Version: 2.7.0 Command: /Library/Frameworks/R.framework/Resources/bin/R CMD build --keep-empty-dirs --no-resave-data IsoformSwitchAnalyzeR StartedAt: 2025-02-09 17:13:13 -0500 (Sun, 09 Feb 2025) EndedAt: 2025-02-09 17:16:58 -0500 (Sun, 09 Feb 2025) EllapsedTime: 225.2 seconds RetCode: 0 Status: OK PackageFile: IsoformSwitchAnalyzeR_2.7.0.tar.gz PackageFileSize: 6.594 MiB