Package: IsoformSwitchAnalyzeR Version: 2.7.0 Command: /Library/Frameworks/R.framework/Resources/bin/R CMD check --install=check:IsoformSwitchAnalyzeR.install-out.txt --library=/Library/Frameworks/R.framework/Resources/library --no-vignettes --timings IsoformSwitchAnalyzeR_2.7.0.tar.gz StartedAt: 2025-02-09 21:29:43 -0500 (Sun, 09 Feb 2025) EndedAt: 2025-02-09 21:41:55 -0500 (Sun, 09 Feb 2025) EllapsedTime: 732.2 seconds RetCode: 0 Status: OK CheckDir: IsoformSwitchAnalyzeR.Rcheck Warnings: 0