Package: IsoformSwitchAnalyzeR Version: 2.7.0 Command: /Library/Frameworks/R.framework/Resources/bin/R CMD INSTALL IsoformSwitchAnalyzeR StartedAt: 2025-02-09 15:37:15 -0500 (Sun, 09 Feb 2025) EndedAt: 2025-02-09 15:38:43 -0500 (Sun, 09 Feb 2025) EllapsedTime: 87.8 seconds RetCode: 0 Status: OK