Package: IsoformSwitchAnalyzeR Version: 2.7.0 Command: /home/biocbuild/bbs-3.21-bioc/R/bin/R CMD build --keep-empty-dirs --no-resave-data IsoformSwitchAnalyzeR StartedAt: 2025-02-09 17:49:01 -0500 (Sun, 09 Feb 2025) EndedAt: 2025-02-09 17:52:20 -0500 (Sun, 09 Feb 2025) EllapsedTime: 198.3 seconds RetCode: 0 Status: OK PackageFile: IsoformSwitchAnalyzeR_2.7.0.tar.gz PackageFileSize: 6.461 MiB