Package: IsoformSwitchAnalyzeR Version: 2.7.0 Command: /home/biocbuild/bbs-3.21-bioc/R/bin/R CMD check --install=check:IsoformSwitchAnalyzeR.install-out.txt --library=/home/biocbuild/bbs-3.21-bioc/R/site-library --timings IsoformSwitchAnalyzeR_2.7.0.tar.gz StartedAt: 2025-02-09 23:31:12 -0500 (Sun, 09 Feb 2025) EndedAt: 2025-02-09 23:44:05 -0500 (Sun, 09 Feb 2025) EllapsedTime: 773.3 seconds RetCode: 0 Status: OK CheckDir: IsoformSwitchAnalyzeR.Rcheck Warnings: 0