Package: IsoformSwitchAnalyzeR Version: 2.7.0 Command: /home/biocbuild/bbs-3.21-bioc/R/bin/R CMD INSTALL IsoformSwitchAnalyzeR StartedAt: 2025-02-09 15:49:35 -0500 (Sun, 09 Feb 2025) EndedAt: 2025-02-09 15:50:38 -0500 (Sun, 09 Feb 2025) EllapsedTime: 62.6 seconds RetCode: 0 Status: OK